BEGIN:VCALENDAR
VERSION:2.0
PRODID:-//ChamberMaster//Event Calendar 2.0//EN
METHOD:PUBLISH
X-PUBLISHED-TTL:P3D
REFRESH-INTERVAL:P3D
CALSCALE:GREGORIAN
BEGIN:VEVENT
DTSTART:20261206T003000Z
DTEND:20261206T040000Z
X-MICROSOFT-CDO-ALLDAYEVENT:FALSE
SUMMARY:Lighted Christmas Parade\, Tree Lighting & Downtown Party
DESCRIPTION:Marching bands\, floats\, walking groups\, fire trucks and of course\, Santa! Parade starts at 4:30 pm at High Country Lumber and goes north on Main Street to Bishop City Park.  Academy Street Party with live music & many vendors. Visit Santa and shop at Eastside Guest House Holiday Mart. Shop & dine downtown - many businesses will be open late. Santa Mile Fun Run Starts at 4pm at Bishop Chamber. Note: Street closures/parade detour starts at least one hour prior. Get downtown early to avoid any traffic problems.\n\nClick here to download parade entry form.
X-ALT-DESC;FMTTYPE=text/html:Marching bands\, floats\, walking groups\, fire trucks and of course\, Santa! Parade starts at 4:30 pm at High Country Lumber and goes north on Main Street to Bishop City Park.&nbsp\; Academy Street Party with live music &amp\; many vendors. Visit Santa and shop at Eastside Guest House Holiday Mart. Shop &amp\; dine downtown - many businesses will be open late. Santa Mile Fun Run Starts at 4pm at Bishop Chamber. Note: Street closures/parade detour starts at least one hour prior. Get downtown early to avoid any traffic problems.<br />\n<a href="https://chambermaster.blob.core.windows.net/userfiles/UserFiles/chambers/3579/File/2024ChristmasParadeEntryForm.pdf">Click here to download parade entry form.</a>
LOCATION:
UID:e.3579.489
SEQUENCE:3
DTSTAMP:20260424T132806Z
URL:https://members.bishopchamberofcommerce.com/events/details/lighted-christmas-parade-tree-lighting-downtown-party-12-07-2026-489
END:VEVENT

END:VCALENDAR
