BEGIN:VCALENDAR
VERSION:2.0
PRODID:-//ChamberMaster//Event Calendar 2.0//EN
METHOD:PUBLISH
X-PUBLISHED-TTL:P3D
REFRESH-INTERVAL:P3D
CALSCALE:GREGORIAN
BEGIN:VEVENT
DTSTART:20280429T003000Z
DTEND:20280429T040000Z
X-MICROSOFT-CDO-ALLDAYEVENT:FALSE
SUMMARY:Eastern Sierra Trout Opener Media Reception
DESCRIPTION:Join fishing media partners and industry experts for a fun event to celebrated the general trout season opener. Share fish stories and enjoy dinner\, hosted bar\, music & prizes!
X-ALT-DESC;FMTTYPE=text/html:Join fishing media partners and industry experts for a fun event to celebrated the general trout season opener. Share fish stories and enjoy dinner\, hosted bar\, music &amp\; prizes!
LOCATION:Bishop Country Club Golf Course
UID:e.3579.470
SEQUENCE:3
DTSTAMP:20260425T154732Z
URL:https://members.bishopchamberofcommerce.com/events/details/eastern-sierra-trout-opener-media-reception-04-28-2028-470
END:VEVENT

END:VCALENDAR
